BEGIN:VCALENDAR
VERSION:2.0
PRODID:-//Lima Kokua, Inc - ECPv6.15.17.1//NONSGML v1.0//EN
CALSCALE:GREGORIAN
METHOD:PUBLISH
X-ORIGINAL-URL:https://limakokua.org
X-WR-CALDESC:Events for Lima Kokua, Inc
REFRESH-INTERVAL;VALUE=DURATION:PT1H
X-Robots-Tag:noindex
X-PUBLISHED-TTL:PT1H
BEGIN:VTIMEZONE
TZID:Pacific/Honolulu
BEGIN:STANDARD
TZOFFSETFROM:-1000
TZOFFSETTO:-1000
TZNAME:HST
DTSTART:20190101T000000
END:STANDARD
END:VTIMEZONE
BEGIN:VEVENT
DTSTART;TZID=Pacific/Honolulu:20251227T170000
DTEND;TZID=Pacific/Honolulu:20251227T200000
DTSTAMP:20260423T054023
CREATED:20251015T080345Z
LAST-MODIFIED:20251214T093039Z
UID:3016-1766854800-1766865600@limakokua.org
SUMMARY:Holiday Trolley Ride
DESCRIPTION:Social Event: Trolley Ride to view the Honolulu City Lights displays and more!  \n\n\n\nMeet at Kumu Kahua Theatre at 5:00pm to visit and enjoy wines/cheeses/pupus. Trolley Ride starts at 6:00pm to tour the Honolulu City Lights\, Thomas Square\, Waikiki\, and back to Kumu. \n\n\n\n\n\nPlease contact Sara Ward for registration and payment information. \n\n\n\n\n\nParking: $3.00 at the Harbor Court lot\, or street parking
URL:https://limakokua.org/event/holiday-trolley-ride/
LOCATION:Kumu Kahua Theatre\, 46 Merchant St\, Honolulu\, Hawaii
CATEGORIES:Social
END:VEVENT
BEGIN:VEVENT
DTSTART;TZID=Pacific/Honolulu:20250913T190000
DTEND;TZID=Pacific/Honolulu:20250913T190000
DTSTAMP:20260423T054023
CREATED:20250716T031850Z
LAST-MODIFIED:20250816T225753Z
UID:2812-1757790000-1757790000@limakokua.org
SUMMARY:Theatre Night Social
DESCRIPTION:September 13th\, 7:00pm \n\n\n\nSmother by Sara Ward \n\n\n\nSmother runs from August 28th until September 28th.For tickets call Kumu Kahua Theatre box office at (808) 536-4111.Group rate available to Lima Kokua members on September 13th.
URL:https://limakokua.org/event/theatre-night-social/
LOCATION:Kumu Kahua Theatre\, 46 Merchant St\, Honolulu\, Hawaii
CATEGORIES:Social
END:VEVENT
BEGIN:VEVENT
DTSTART;TZID=Pacific/Honolulu:20250726T140000
DTEND;TZID=Pacific/Honolulu:20250726T190000
DTSTAMP:20260423T054023
CREATED:20250603T223837Z
LAST-MODIFIED:20250713T041541Z
UID:2688-1753538400-1753556400@limakokua.org
SUMMARY:Chili Cookoff Fundraiser
DESCRIPTION:Lima Kokua’s Annual Chili Cookoff \n\n\n\nDinner served at 5:30pm
URL:https://limakokua.org/event/chili-cookoff-fundraiser/
LOCATION:Church of the Crossroads\, 1212 University Ave\, Honolulu\, HI\, 96826\, United States
CATEGORIES:Fundraiser
END:VEVENT
BEGIN:VEVENT
DTSTART;TZID=Pacific/Honolulu:20250626T190000
DTEND;TZID=Pacific/Honolulu:20250626T210000
DTSTAMP:20260423T054023
CREATED:20250603T213513Z
LAST-MODIFIED:20250622T234254Z
UID:2662-1750964400-1750971600@limakokua.org
SUMMARY:Theatre Night Fundraiser
DESCRIPTION:The Golden Gays by Ryan “Oki” Naka \nSold Out
URL:https://limakokua.org/event/theatre-night-fundraiser/
LOCATION:Kumu Kahua Theatre\, 46 Merchant St\, Honolulu\, Hawaii
CATEGORIES:Fundraiser
END:VEVENT
BEGIN:VEVENT
DTSTART;TZID=Pacific/Honolulu:20250621T100000
DTEND;TZID=Pacific/Honolulu:20250621T120000
DTSTAMP:20260423T054023
CREATED:20250604T001937Z
LAST-MODIFIED:20250615T231151Z
UID:2705-1750500000-1750507200@limakokua.org
SUMMARY:Honolulu AIDS Walk: Team Lima Kokua
DESCRIPTION:HHHRC Presents the 34th Honolulu AIDS Walk \n\n\n\nPlease Join Team Lima Kokua as we support HHHRC’s Honolulu AIDS Walk. Registration starts at 8:00AM\, and the Walk starts at 10:00AM.  The walk around the park (about 1 mile) is optional. Picnic lunch is planned after the walk.
URL:https://limakokua.org/event/honolulu-aids-walk-team-lima-kokua/
LOCATION:Kapiolani Park Bandstand\, 2740 Kalākaua Ave\, Honolulu
END:VEVENT
BEGIN:VEVENT
DTSTART;TZID=Pacific/Honolulu:20221213T190000
DTEND;TZID=Pacific/Honolulu:20221213T210000
DTSTAMP:20260423T054023
CREATED:20220516T004211Z
LAST-MODIFIED:20220516T004212Z
UID:2535-1670958000-1670965200@limakokua.org
SUMMARY:Board of Members Annual Meeting
DESCRIPTION:
URL:https://limakokua.org/event/board-of-members-annual-meeting/
LOCATION:HI
END:VEVENT
BEGIN:VEVENT
DTSTART;TZID=Pacific/Honolulu:20221108T190000
DTEND;TZID=Pacific/Honolulu:20221108T210000
DTSTAMP:20260423T054023
CREATED:20220516T004137Z
LAST-MODIFIED:20220516T004137Z
UID:2533-1667934000-1667941200@limakokua.org
SUMMARY:Board of Members Regular Meeting
DESCRIPTION:
URL:https://limakokua.org/event/board-of-members-regular-meeting-6/
LOCATION:HI
END:VEVENT
BEGIN:VEVENT
DTSTART;TZID=Pacific/Honolulu:20221011T190000
DTEND;TZID=Pacific/Honolulu:20221011T210000
DTSTAMP:20260423T054023
CREATED:20220516T004100Z
LAST-MODIFIED:20220516T004100Z
UID:2531-1665514800-1665522000@limakokua.org
SUMMARY:Board of Members Regular Meeting
DESCRIPTION:
URL:https://limakokua.org/event/board-of-members-regular-meeting-5/
LOCATION:HI
END:VEVENT
BEGIN:VEVENT
DTSTART;TZID=Pacific/Honolulu:20220913T190000
DTEND;TZID=Pacific/Honolulu:20220913T210000
DTSTAMP:20260423T054023
CREATED:20220516T004022Z
LAST-MODIFIED:20220516T004023Z
UID:2529-1663095600-1663102800@limakokua.org
SUMMARY:Board of Members Regular Meeting
DESCRIPTION:
URL:https://limakokua.org/event/board-of-members-regular-meeting-4/
LOCATION:HI
END:VEVENT
BEGIN:VEVENT
DTSTART;TZID=Pacific/Honolulu:20220809T190000
DTEND;TZID=Pacific/Honolulu:20220809T210000
DTSTAMP:20260423T054023
CREATED:20220516T003642Z
LAST-MODIFIED:20220516T003643Z
UID:2523-1660071600-1660078800@limakokua.org
SUMMARY:Board of Members Regular Meeting
DESCRIPTION:
URL:https://limakokua.org/event/board-of-members-regular-meeting-3/
LOCATION:HI
END:VEVENT
BEGIN:VEVENT
DTSTART;TZID=Pacific/Honolulu:20220730T150000
DTEND;TZID=Pacific/Honolulu:20220730T190000
DTSTAMP:20260423T054023
CREATED:20220516T003919Z
LAST-MODIFIED:20220516T003920Z
UID:2525-1659193200-1659207600@limakokua.org
SUMMARY:60th Anniversary Chili Cook-Off
DESCRIPTION:More information soon!
URL:https://limakokua.org/event/60th-anniversary-chili-cook-off/
LOCATION:Church of the Crossroads\, 1212 University Avenue\, Honolulu\, Hawaii\, 96826\, United States
END:VEVENT
BEGIN:VEVENT
DTSTART;TZID=Pacific/Honolulu:20220712T190000
DTEND;TZID=Pacific/Honolulu:20220712T210000
DTSTAMP:20260423T054023
CREATED:20220516T003531Z
LAST-MODIFIED:20220516T003532Z
UID:2521-1657652400-1657659600@limakokua.org
SUMMARY:Board of Members Regular Meeting
DESCRIPTION:
URL:https://limakokua.org/event/board-of-members-regular-meeting-2/
LOCATION:HI
END:VEVENT
BEGIN:VEVENT
DTSTART;TZID=Pacific/Honolulu:20220614T070000
DTEND;TZID=Pacific/Honolulu:20220614T210000
DTSTAMP:20260423T054024
CREATED:20220516T003349Z
LAST-MODIFIED:20220516T003350Z
UID:2519-1655190000-1655240400@limakokua.org
SUMMARY:Board of Member's Regular Meeting
DESCRIPTION:
URL:https://limakokua.org/event/board-of-members-regular-meeting/
LOCATION:HI
END:VEVENT
BEGIN:VEVENT
DTSTART;TZID=Pacific/Honolulu:20211214T190000
DTEND;TZID=Pacific/Honolulu:20211214T210000
DTSTAMP:20260423T054024
CREATED:20201224T054704Z
LAST-MODIFIED:20201224T054705Z
UID:2461-1639508400-1639515600@limakokua.org
SUMMARY:Board of Members Meeting
DESCRIPTION:
URL:https://limakokua.org/event/board-of-members-meeting-12/
LOCATION:HI
END:VEVENT
BEGIN:VEVENT
DTSTART;TZID=Pacific/Honolulu:20211109T190000
DTEND;TZID=Pacific/Honolulu:20211109T210000
DTSTAMP:20260423T054024
CREATED:20201224T054623Z
LAST-MODIFIED:20201224T054626Z
UID:2459-1636484400-1636491600@limakokua.org
SUMMARY:Board of Members Meeting
DESCRIPTION:
URL:https://limakokua.org/event/board-of-members-meeting-11/
LOCATION:HI
END:VEVENT
BEGIN:VEVENT
DTSTART;TZID=Pacific/Honolulu:20211012T190000
DTEND;TZID=Pacific/Honolulu:20211012T200000
DTSTAMP:20260423T054024
CREATED:20201224T054545Z
LAST-MODIFIED:20201224T054546Z
UID:2457-1634065200-1634068800@limakokua.org
SUMMARY:Board of Members Meeting
DESCRIPTION:
URL:https://limakokua.org/event/board-of-members-meeting-10/
LOCATION:HI
END:VEVENT
BEGIN:VEVENT
DTSTART;TZID=Pacific/Honolulu:20210914T190000
DTEND;TZID=Pacific/Honolulu:20210914T210000
DTSTAMP:20260423T054024
CREATED:20201224T054507Z
LAST-MODIFIED:20201224T054508Z
UID:2455-1631646000-1631653200@limakokua.org
SUMMARY:Board of Members Meeting
DESCRIPTION:
URL:https://limakokua.org/event/board-of-members-meeting-9/
LOCATION:HI
END:VEVENT
BEGIN:VEVENT
DTSTART;TZID=Pacific/Honolulu:20210810T190000
DTEND;TZID=Pacific/Honolulu:20210810T200000
DTSTAMP:20260423T054024
CREATED:20201224T054232Z
LAST-MODIFIED:20201224T054234Z
UID:2452-1628622000-1628625600@limakokua.org
SUMMARY:Board of Members Meeting
DESCRIPTION:
URL:https://limakokua.org/event/board-of-members-meeting-8/
LOCATION:HI
END:VEVENT
BEGIN:VEVENT
DTSTART;TZID=Pacific/Honolulu:20210713T190000
DTEND;TZID=Pacific/Honolulu:20210713T210000
DTSTAMP:20260423T054024
CREATED:20201224T054151Z
LAST-MODIFIED:20201224T054153Z
UID:2450-1626202800-1626210000@limakokua.org
SUMMARY:Board of Members Meeting
DESCRIPTION:
URL:https://limakokua.org/event/board-of-members-meeting-7/
LOCATION:HI
END:VEVENT
BEGIN:VEVENT
DTSTART;TZID=Pacific/Honolulu:20210608T190000
DTEND;TZID=Pacific/Honolulu:20210608T210000
DTSTAMP:20260423T054024
CREATED:20201224T054112Z
LAST-MODIFIED:20201224T054114Z
UID:2448-1623178800-1623186000@limakokua.org
SUMMARY:Board of Members Meeting
DESCRIPTION:
URL:https://limakokua.org/event/board-of-members-meeting-6/
LOCATION:HI
END:VEVENT
BEGIN:VEVENT
DTSTART;TZID=Pacific/Honolulu:20210511T190000
DTEND;TZID=Pacific/Honolulu:20210511T210000
DTSTAMP:20260423T054024
CREATED:20201224T054035Z
LAST-MODIFIED:20201224T054037Z
UID:2446-1620759600-1620766800@limakokua.org
SUMMARY:Board of Members Meeting
DESCRIPTION:
URL:https://limakokua.org/event/board-of-members-meeting-5/
LOCATION:HI
END:VEVENT
BEGIN:VEVENT
DTSTART;TZID=Pacific/Honolulu:20210413T190000
DTEND;TZID=Pacific/Honolulu:20210413T210000
DTSTAMP:20260423T054024
CREATED:20201224T053957Z
LAST-MODIFIED:20201224T053958Z
UID:2444-1618340400-1618347600@limakokua.org
SUMMARY:Board of Members Meeting
DESCRIPTION:
URL:https://limakokua.org/event/board-of-members-meeting-4/
LOCATION:HI
END:VEVENT
BEGIN:VEVENT
DTSTART;TZID=Pacific/Honolulu:20210309T190000
DTEND;TZID=Pacific/Honolulu:20210309T210000
DTSTAMP:20260423T054024
CREATED:20201224T053851Z
LAST-MODIFIED:20201224T053852Z
UID:2442-1615316400-1615323600@limakokua.org
SUMMARY:Board of Members Meeting
DESCRIPTION:
URL:https://limakokua.org/event/board-of-members-meeting-3/
LOCATION:HI
END:VEVENT
BEGIN:VEVENT
DTSTART;TZID=Pacific/Honolulu:20210209T190000
DTEND;TZID=Pacific/Honolulu:20210209T210000
DTSTAMP:20260423T054024
CREATED:20201224T052434Z
LAST-MODIFIED:20201224T052435Z
UID:2440-1612897200-1612904400@limakokua.org
SUMMARY:Board of Members Meeting
DESCRIPTION:
URL:https://limakokua.org/event/board-of-members-meeting-2/
LOCATION:HI
END:VEVENT
BEGIN:VEVENT
DTSTART;TZID=Pacific/Honolulu:20210112T190000
DTEND;TZID=Pacific/Honolulu:20210112T210000
DTSTAMP:20260423T054024
CREATED:20201224T052349Z
LAST-MODIFIED:20201224T052351Z
UID:2438-1610478000-1610485200@limakokua.org
SUMMARY:Board of Members Meeting
DESCRIPTION:
URL:https://limakokua.org/event/board-of-members-meeting/
LOCATION:HI
END:VEVENT
BEGIN:VEVENT
DTSTART;TZID=Pacific/Honolulu:20210109T180000
DTEND;TZID=Pacific/Honolulu:20210109T200000
DTSTAMP:20260423T054024
CREATED:20210101T175746Z
LAST-MODIFIED:20210101T180421Z
UID:2469-1610215200-1610222400@limakokua.org
SUMMARY:Virtual Holiday Party
DESCRIPTION:
URL:https://limakokua.org/event/holiday/
LOCATION:HI
END:VEVENT
BEGIN:VEVENT
DTSTART;TZID=Pacific/Honolulu:20201208T180000
DTEND;TZID=Pacific/Honolulu:20201208T210000
DTSTAMP:20260423T054024
CREATED:20191120T164244Z
LAST-MODIFIED:20191120T164245Z
UID:2323-1607450400-1607461200@limakokua.org
SUMMARY:Business Meeting
DESCRIPTION:
URL:https://limakokua.org/event/business-meeting-18/
LOCATION:HI
END:VEVENT
BEGIN:VEVENT
DTSTART;TZID=Pacific/Honolulu:20201110T180000
DTEND;TZID=Pacific/Honolulu:20201110T210000
DTSTAMP:20260423T054024
CREATED:20191120T164211Z
LAST-MODIFIED:20191120T164212Z
UID:2321-1605031200-1605042000@limakokua.org
SUMMARY:Business Meeting
DESCRIPTION:
URL:https://limakokua.org/event/business-meeting-17/
LOCATION:HI
END:VEVENT
BEGIN:VEVENT
DTSTART;TZID=Pacific/Honolulu:20201013T180000
DTEND;TZID=Pacific/Honolulu:20201013T210000
DTSTAMP:20260423T054024
CREATED:20191120T164136Z
LAST-MODIFIED:20191120T164137Z
UID:2319-1602612000-1602622800@limakokua.org
SUMMARY:Business Meeting
DESCRIPTION:
URL:https://limakokua.org/event/business-meeting-16/
LOCATION:HI
END:VEVENT
BEGIN:VEVENT
DTSTART;TZID=Pacific/Honolulu:20200926T130000
DTEND;TZID=Pacific/Honolulu:20200926T150000
DTSTAMP:20260423T054024
CREATED:20200815T033352Z
LAST-MODIFIED:20200927T013146Z
UID:2418-1601125200-1601132400@limakokua.org
SUMMARY:Biennial Retreat
DESCRIPTION:By invitation only\, for Members and Associate Members. Join us to discuss the future and bylaws of Lima Kokua.
URL:https://limakokua.org/event/biennial-retreat/
LOCATION:HI
END:VEVENT
END:VCALENDAR